BEGIN:VCALENDAR
VERSION:2.0
PRODID:-//Permanent Way Institution of New South Wales - ECPv6.2.1//NONSGML v1.0//EN
CALSCALE:GREGORIAN
METHOD:PUBLISH
X-WR-CALNAME:Permanent Way Institution of New South Wales
X-ORIGINAL-URL:https://www.pwinsw.org.au
X-WR-CALDESC:Events for Permanent Way Institution of New South Wales
REFRESH-INTERVAL;VALUE=DURATION:PT1H
X-Robots-Tag:noindex
X-PUBLISHED-TTL:PT1H
BEGIN:VTIMEZONE
TZID:Australia/Sydney
BEGIN:STANDARD
TZOFFSETFROM:+1100
TZOFFSETTO:+1000
TZNAME:AEST
DTSTART:20230401T160000
END:STANDARD
BEGIN:DAYLIGHT
TZOFFSETFROM:+1000
TZOFFSETTO:+1100
TZNAME:AEDT
DTSTART:20230930T160000
END:DAYLIGHT
END:VTIMEZONE
BEGIN:VEVENT
DTSTART;TZID=Australia/Sydney:20230323T084500
DTEND;TZID=Australia/Sydney:20230323T120000
DTSTAMP:20260422T120148
CREATED:20230317T054318Z
LAST-MODIFIED:20230317T054949Z
UID:3696-1679561100-1679572800@www.pwinsw.org.au
SUMMARY:Tallawong HV Substation Tour - Site Visit - March 2023
DESCRIPTION:  \n \n  \nSite Visit (23/03/2023) – Tallawong HV Substation Tour
URL:https://www.pwinsw.org.au/calendar/tallawong-hv-substation-tour-site-visit-march-2023/
LOCATION:NSW
CATEGORIES:Country Meeting
END:VEVENT
END:VCALENDAR