BEGIN:VCALENDAR
VERSION:2.0
PRODID:-//Permanent Way Institution of New South Wales - ECPv6.2.1//NONSGML v1.0//EN
CALSCALE:GREGORIAN
METHOD:PUBLISH
X-ORIGINAL-URL:https://www.pwinsw.org.au
X-WR-CALDESC:Events for Permanent Way Institution of New South Wales
REFRESH-INTERVAL;VALUE=DURATION:PT1H
X-Robots-Tag:noindex
X-PUBLISHED-TTL:PT1H
BEGIN:VTIMEZONE
TZID:Australia/Sydney
BEGIN:STANDARD
TZOFFSETFROM:+1100
TZOFFSETTO:+1000
TZNAME:AEST
DTSTART:20220402T160000
END:STANDARD
BEGIN:DAYLIGHT
TZOFFSETFROM:+1000
TZOFFSETTO:+1100
TZNAME:AEDT
DTSTART:20221001T160000
END:DAYLIGHT
END:VTIMEZONE
BEGIN:VEVENT
DTSTART;VALUE=DATE:20221104
DTEND;VALUE=DATE:20221105
DTSTAMP:20260422T001813
CREATED:20211108T095633Z
LAST-MODIFIED:20221103T092415Z
UID:3059-1667520000-1667606399@www.pwinsw.org.au
SUMMARY:Annual Convention - November 2022
DESCRIPTION:Date: PWI ANNUAL CONVENTION\nDate: Friday 04th November 2022\nLocation: Grand Ballroom\, Fullerton Hotel\, Sydney
URL:https://www.pwinsw.org.au/calendar/annual-convention-november-2022/
LOCATION:Fullerton Hotel\, 1 Martin Place\, Sydney\, NSW\, 2000\, Australia
CATEGORIES:Annual Convention
END:VEVENT
END:VCALENDAR