BEGIN:VCALENDAR
VERSION:2.0
PRODID:-//Permanent Way Institution of New South Wales - ECPv6.2.1//NONSGML v1.0//EN
CALSCALE:GREGORIAN
METHOD:PUBLISH
X-WR-CALNAME:Permanent Way Institution of New South Wales
X-ORIGINAL-URL:https://www.pwinsw.org.au
X-WR-CALDESC:Events for Permanent Way Institution of New South Wales
REFRESH-INTERVAL;VALUE=DURATION:PT1H
X-Robots-Tag:noindex
X-PUBLISHED-TTL:PT1H
BEGIN:VTIMEZONE
TZID:Australia/Sydney
BEGIN:STANDARD
TZOFFSETFROM:+1100
TZOFFSETTO:+1000
TZNAME:AEST
DTSTART:20220402T160000
END:STANDARD
BEGIN:DAYLIGHT
TZOFFSETFROM:+1000
TZOFFSETTO:+1100
TZNAME:AEDT
DTSTART:20221001T160000
END:DAYLIGHT
END:VTIMEZONE
BEGIN:VEVENT
DTSTART;VALUE=DATE:20220311
DTEND;VALUE=DATE:20220312
DTSTAMP:20260423T015043
CREATED:20211108T091532Z
LAST-MODIFIED:20240327T074526Z
UID:3003-1646956800-1647043199@www.pwinsw.org.au
SUMMARY:Golf Day - March 2022
DESCRIPTION:  \n\n\n\n\n\nThe Annual PWI Rail Industry Golf Day \nLocation:  Bankstown Golf Course  \nDate :  Postponed due to bad weather \n\n\n\n\n\n 
URL:https://www.pwinsw.org.au/calendar/golf-day-march-2022/
LOCATION:NSW
CATEGORIES:Golf Day
END:VEVENT
END:VCALENDAR