BEGIN:VCALENDAR
VERSION:2.0
PRODID:-//Permanent Way Institution of New South Wales - ECPv6.2.1//NONSGML v1.0//EN
CALSCALE:GREGORIAN
METHOD:PUBLISH
X-WR-CALNAME:Permanent Way Institution of New South Wales
X-ORIGINAL-URL:https://www.pwinsw.org.au
X-WR-CALDESC:Events for Permanent Way Institution of New South Wales
REFRESH-INTERVAL;VALUE=DURATION:PT1H
X-Robots-Tag:noindex
X-PUBLISHED-TTL:PT1H
BEGIN:VTIMEZONE
TZID:Australia/Sydney
BEGIN:STANDARD
TZOFFSETFROM:+1100
TZOFFSETTO:+1000
TZNAME:AEST
DTSTART:20260404T160000
END:STANDARD
BEGIN:DAYLIGHT
TZOFFSETFROM:+1000
TZOFFSETTO:+1100
TZNAME:AEDT
DTSTART:20261003T160000
END:DAYLIGHT
END:VTIMEZONE
BEGIN:VEVENT
DTSTART;VALUE=DATE:20260501
DTEND;VALUE=DATE:20260502
DTSTAMP:20260420T232358
CREATED:20250927T035955Z
LAST-MODIFIED:20260409T012054Z
UID:5859-1777593600-1777679999@www.pwinsw.org.au
SUMMARY:Golf Day - 01 May 2026
DESCRIPTION:  \n  \n\n\n\n\n\n\n\n\n\n 
URL:https://www.pwinsw.org.au/calendar/golf-day-2026/
LOCATION:Strathfield Golf Club\, 52 Weeroona Rd\, Strathfield\, NSW\, 2135\, Australia
CATEGORIES:Golf Day
ATTACH;FMTTYPE=image/png:https://www.pwinsw.org.au/content/uploads/2026/01/20260501GolfDay-reduced.png
END:VEVENT
BEGIN:VEVENT
DTSTART;TZID=Australia/Sydney:20260506T073000
DTEND;TZID=Australia/Sydney:20260506T093000
DTSTAMP:20260420T232358
CREATED:20251122T071557Z
LAST-MODIFIED:20260330T005944Z
UID:6089-1778052600-1778059800@www.pwinsw.org.au
SUMMARY:Executive Breakfast - 06 May 2026
DESCRIPTION:  \n  \n\n\n\n\n\n\n\n  \n2026 Executive Breakfast with Matt Longland\nLocation : Fullerton Hotel\, 1 Martin Place\, Sydney\, NSW 2000
URL:https://www.pwinsw.org.au/calendar/executive-breakfast-06-may-2026/
LOCATION:Fullerton Hotel\, 1 Martin Place\, Sydney\, NSW\, 2000\, Australia
CATEGORIES:Executive Breakfast
ATTACH;FMTTYPE=image/png:https://www.pwinsw.org.au/content/uploads/2026/03/PWI-Header-Executive-Breakfast.png
END:VEVENT
BEGIN:VEVENT
DTSTART;TZID=Australia/Sydney:20260513T120000
DTEND;TZID=Australia/Sydney:20260513T130000
DTSTAMP:20260420T232358
CREATED:20251122T011757Z
LAST-MODIFIED:20260126T093353Z
UID:6047-1778673600-1778677200@www.pwinsw.org.au
SUMMARY:Lunch and Learn - 13 May 2026
DESCRIPTION:  \n\n\n\n\n\n\n\n\n\n\n\n  \nLunch and Learn is proudly presented by TBC\nLocation : Online only
URL:https://www.pwinsw.org.au/calendar/lunch-and-learn-may-2026/
LOCATION:Online Event\, Australia
CATEGORIES:Lunch and Learn
ATTACH;FMTTYPE=image/jpeg:https://www.pwinsw.org.au/content/uploads/2024/04/Lunch-Learn-Header.jpg
END:VEVENT
END:VCALENDAR